BEGIN:VCALENDAR
VERSION:2.0
PRODID:-//META - Don Bosco - ECPv6.9.1//NONSGML v1.0//EN
CALSCALE:GREGORIAN
METHOD:PUBLISH
X-WR-CALNAME:META - Don Bosco
X-ORIGINAL-URL:https://metakepzes.hu
X-WR-CALDESC:Events for META - Don Bosco
REFRESH-INTERVAL;VALUE=DURATION:PT1H
X-Robots-Tag:noindex
X-PUBLISHED-TTL:PT1H
BEGIN:VTIMEZONE
TZID:Europe/Budapest
BEGIN:DAYLIGHT
TZOFFSETFROM:+0100
TZOFFSETTO:+0200
TZNAME:CEST
DTSTART:20240331T010000
END:DAYLIGHT
BEGIN:STANDARD
TZOFFSETFROM:+0200
TZOFFSETTO:+0100
TZNAME:CET
DTSTART:20241027T010000
END:STANDARD
END:VTIMEZONE
BEGIN:VEVENT
DTSTART;VALUE=DATE:20241028
DTEND;VALUE=DATE:20241102
DTSTAMP:20260423T074145
CREATED:20241011T070632Z
LAST-MODIFIED:20241011T070632Z
UID:25885-1730073600-1730505599@metakepzes.hu
SUMMARY:Őszi szünet
DESCRIPTION:
URL:https://metakepzes.hu/esemeny/oszi-szunet-2/
END:VEVENT
BEGIN:VEVENT
DTSTART;VALUE=DATE:20241111
DTEND;VALUE=DATE:20241112
DTSTAMP:20260423T074145
CREATED:20241011T070706Z
LAST-MODIFIED:20241011T070706Z
UID:25887-1731283200-1731369599@metakepzes.hu
SUMMARY:Pedagógiai Konferencia – tanítás nélküli munkanap
DESCRIPTION:
URL:https://metakepzes.hu/esemeny/pedagogiai-konferencia-tanitas-nelkuli-munkanap/
END:VEVENT
BEGIN:VEVENT
DTSTART;TZID=Europe/Budapest:20241112T160000
DTEND;TZID=Europe/Budapest:20241112T180000
DTSTAMP:20260423T074145
CREATED:20241011T070914Z
LAST-MODIFIED:20241011T070914Z
UID:25889-1731427200-1731434400@metakepzes.hu
SUMMARY:Fogadóóra 9. évfolyamon
DESCRIPTION:
URL:https://metakepzes.hu/esemeny/fogadoora-9-evfolyamon/
END:VEVENT
BEGIN:VEVENT
DTSTART;VALUE=DATE:20241114
DTEND;VALUE=DATE:20241115
DTSTAMP:20260423T074145
CREATED:20241011T070954Z
LAST-MODIFIED:20241011T070954Z
UID:25891-1731542400-1731628799@metakepzes.hu
SUMMARY:Nyitott kapuk 8. évfolyamos diákok számára
DESCRIPTION:
URL:https://metakepzes.hu/esemeny/nyitott-kapuk-8-evfolyamos-diakok-szamara-2/
END:VEVENT
BEGIN:VEVENT
DTSTART;VALUE=DATE:20241120
DTEND;VALUE=DATE:20241123
DTSTAMP:20260423T074145
CREATED:20241011T071118Z
LAST-MODIFIED:20241011T071118Z
UID:25895-1732060800-1732319999@metakepzes.hu
SUMMARY:SZAPA
DESCRIPTION:
URL:https://metakepzes.hu/esemeny/szapa-2/
END:VEVENT
BEGIN:VEVENT
DTSTART;TZID=Europe/Budapest:20241120T143000
DTEND;TZID=Europe/Budapest:20241120T170000
DTSTAMP:20260423T074145
CREATED:20241011T071040Z
LAST-MODIFIED:20241011T071040Z
UID:25893-1732113000-1732122000@metakepzes.hu
SUMMARY:Zrínyi Ilona matematika verseny
DESCRIPTION:
URL:https://metakepzes.hu/esemeny/zrinyi-ilona-matematika-verseny/
END:VEVENT
BEGIN:VEVENT
DTSTART;VALUE=DATE:20241121
DTEND;VALUE=DATE:20241122
DTSTAMP:20260423T074145
CREATED:20241011T071151Z
LAST-MODIFIED:20241011T071151Z
UID:25897-1732147200-1732233599@metakepzes.hu
SUMMARY:Nyílt nap érettségizettek számára
DESCRIPTION:
URL:https://metakepzes.hu/esemeny/nyilt-nap-erettsegizettek-szamara/
END:VEVENT
BEGIN:VEVENT
DTSTART;TZID=Europe/Budapest:20241127T090000
DTEND;TZID=Europe/Budapest:20241127T113000
DTSTAMP:20260423T074145
CREATED:20241011T071243Z
LAST-MODIFIED:20241011T071243Z
UID:25899-1732698000-1732707000@metakepzes.hu
SUMMARY:Nyitott kapuk 8. évfolyamos diákok számára
DESCRIPTION:
URL:https://metakepzes.hu/esemeny/nyitott-kapuk-8-evfolyamos-diakok-szamara-3/
END:VEVENT
END:VCALENDAR