BEGIN:VCALENDAR
VERSION:2.0
PRODID:-//META - Don Bosco - ECPv6.9.1//NONSGML v1.0//EN
CALSCALE:GREGORIAN
METHOD:PUBLISH
X-WR-CALNAME:META - Don Bosco
X-ORIGINAL-URL:https://metakepzes.hu
X-WR-CALDESC:Events for META - Don Bosco
REFRESH-INTERVAL;VALUE=DURATION:PT1H
X-Robots-Tag:noindex
X-PUBLISHED-TTL:PT1H
BEGIN:VTIMEZONE
TZID:Europe/Budapest
BEGIN:DAYLIGHT
TZOFFSETFROM:+0100
TZOFFSETTO:+0200
TZNAME:CEST
DTSTART:20240331T010000
END:DAYLIGHT
BEGIN:STANDARD
TZOFFSETFROM:+0200
TZOFFSETTO:+0100
TZNAME:CET
DTSTART:20241027T010000
END:STANDARD
END:VTIMEZONE
BEGIN:VEVENT
DTSTART;VALUE=DATE:20241207
DTEND;VALUE=DATE:20241208
DTSTAMP:20260423T074117
CREATED:20241011T071454Z
LAST-MODIFIED:20241011T071454Z
UID:25903-1733529600-1733615999@metakepzes.hu
SUMMARY:Munkanap
DESCRIPTION:Pénteki munkanap
URL:https://metakepzes.hu/esemeny/munkanap-4/
END:VEVENT
END:VCALENDAR